BEGIN:VCALENDAR
VERSION:2.0
PRODID:-//Argyle Music - ECPv6.15.17.1//NONSGML v1.0//EN
CALSCALE:GREGORIAN
METHOD:PUBLISH
X-WR-CALNAME:Argyle Music
X-ORIGINAL-URL:https://www.argylemusic.ca
X-WR-CALDESC:Events for Argyle Music
REFRESH-INTERVAL;VALUE=DURATION:PT1H
X-Robots-Tag:noindex
X-PUBLISHED-TTL:PT1H
BEGIN:VTIMEZONE
TZID:America/Los_Angeles
BEGIN:DAYLIGHT
TZOFFSETFROM:-0800
TZOFFSETTO:-0700
TZNAME:PDT
DTSTART:20180311T100000
END:DAYLIGHT
BEGIN:STANDARD
TZOFFSETFROM:-0700
TZOFFSETTO:-0800
TZNAME:PST
DTSTART:20181104T090000
END:STANDARD
BEGIN:DAYLIGHT
TZOFFSETFROM:-0800
TZOFFSETTO:-0700
TZNAME:PDT
DTSTART:20190310T100000
END:DAYLIGHT
BEGIN:STANDARD
TZOFFSETFROM:-0700
TZOFFSETTO:-0800
TZNAME:PST
DTSTART:20191103T090000
END:STANDARD
BEGIN:DAYLIGHT
TZOFFSETFROM:-0800
TZOFFSETTO:-0700
TZNAME:PDT
DTSTART:20200308T100000
END:DAYLIGHT
BEGIN:STANDARD
TZOFFSETFROM:-0700
TZOFFSETTO:-0800
TZNAME:PST
DTSTART:20201101T090000
END:STANDARD
END:VTIMEZONE
BEGIN:VEVENT
DTSTART;TZID=America/Los_Angeles:20191122T160000
DTEND;TZID=America/Los_Angeles:20191123T190000
DTSTAMP:20260422T051337
CREATED:20191016T043816Z
LAST-MODIFIED:20191016T043816Z
UID:2071-1574438400-1574535600@www.argylemusic.ca
SUMMARY:Avi Kaplan Honour Choir Festival
DESCRIPTION:Please click HERE to register
URL:https://www.argylemusic.ca/event/avi-kaplan-honour-choir-festival/
LOCATION:Fraserview Church\, (11295 Mellis Drive\, Richmond\, BC\, Canada
END:VEVENT
BEGIN:VEVENT
DTSTART;TZID=America/Los_Angeles:20191119T190000
DTEND;TZID=America/Los_Angeles:20191119T200000
DTSTAMP:20260422T051337
CREATED:20191015T053505Z
LAST-MODIFIED:20191015T053833Z
UID:2060-1574190000-1574193600@www.argylemusic.ca
SUMMARY:JUNIOR Tour Meeting
DESCRIPTION:Band 9 and Choirs 9-10
URL:https://www.argylemusic.ca/event/junior-tour-meeting/
LOCATION:Argyle Band Room\, Canada
END:VEVENT
BEGIN:VEVENT
DTSTART;TZID=America/Los_Angeles:20191108T120000
DTEND;TZID=America/Los_Angeles:20191108T130000
DTSTAMP:20260422T051337
CREATED:20191015T052008Z
LAST-MODIFIED:20191015T052453Z
UID:2053-1573214400-1573218000@www.argylemusic.ca
SUMMARY:Remembrance Day Service
DESCRIPTION:Sr. Band and all Choirs
URL:https://www.argylemusic.ca/event/remembrance-day-service/
LOCATION:Argyle Gym\, Canada
END:VEVENT
BEGIN:VEVENT
DTSTART;TZID=America/Los_Angeles:20191029T190000
DTEND;TZID=America/Los_Angeles:20191029T200000
DTSTAMP:20260422T051337
CREATED:20191005T214058Z
LAST-MODIFIED:20191024T050706Z
UID:1960-1572375600-1572379200@www.argylemusic.ca
SUMMARY:COFFEE HOUSE
DESCRIPTION:Senior Jazz musicians (Jazz Band & Choir) and VE Choir \nAGENDA:\n3-3:30pm Moving Sound Equipment to Cafeteria – Sound Techs setup\n5:45pm – ARRIVE dressed for Performance – final move into place in Cafeteria / BRING FOOD ITEM (clearly labelled for ownership of plate and INGREDIENTS)\n6:15pm – SOUND CHECK with Sr Jazz Band – followed by acapella songs sound check\n6:45pm – DOORS OPEN\n7-8pm SHOWTIME\n8:15-9pm (approx) CLEANUP – Return equipment to Band & Choir rooms \nThanks everyone for your efforts so far\, this is going to be a wonderful night of music and community for us.\nThe students have been practicing hard and we are pleased to have this forum to share with you.\nFrances Roberts
URL:https://www.argylemusic.ca/event/coffee-house-sr-jazz-band-ve-choir/
LOCATION:Argyle Cafeteria\, North Vancouver\, Canada
END:VEVENT
BEGIN:VEVENT
DTSTART;VALUE=DATE:20191017
DTEND;VALUE=DATE:20191019
DTSTAMP:20260422T051337
CREATED:20191005T203244Z
LAST-MODIFIED:20191005T215739Z
UID:1957-1571270400-1571443199@www.argylemusic.ca
SUMMARY:CHOIR RETREAT
DESCRIPTION:Choirs 11-12 and Chamber
URL:https://www.argylemusic.ca/event/choir-retreat-choirs-11-12-chamber/
LOCATION:Camp Luther\, Mission\, Canada
END:VEVENT
END:VCALENDAR